0.5
0
0
-0.5
600696.869599477
4724616.03260729
