0.5
0
0
-0.5
593898.56206432
4722205.05156843
