0.5
0
0
-0.5
645094.561285641
4725415.89226176
