0.5
0
0
-0.5
638310.756865046
4722960.84986786
