0.5
0
0
-0.5
631522.332438389
4720512.66607577
