0.5
0
0
-0.5
641775.038317569
4720717.4286103
