0.5
0
0
-0.5
645241.597443799
4718475.66118324
