0.5
0
0
-0.5
621392.615650453
4713383.08997089
