0.5
0
0
-0.5
628234.511805756
4713507.76420603
