0.5
0
0
-0.5
635121.976631828
4711325.7637265
