0.5
0
0
-0.5
648560.034167584
4723175.77984365
