0.5
0
0
-0.5
573676.158953361
4696507.02142405
