0.5
0
0
-0.5
580560.884074199
4694271.3420265
