0.5
0
0
-0.5
587420.646728453
4694355.52685106
