0.5
0
0
-0.5
604429.414453666
4703848.02452766
