0.5
0
0
-0.5
604464.593331401
4701534.82490673
