0.5
0
0
-0.5
601140.19336377
4694543.9962852
