0.5
0
0
-0.5
635303.79003634
4702072.47943325
