0.5
0
0
-0.5
621719.696080993
4694877.02861484
