0.5
0
0
-0.5
625149.736266214
4694938.41314515
