0.5
0
0
-0.5
628579.804644275
4695001.49509339
