0.5
0
0
-0.5
649010.64753947
4702355.01387288
