0.5
0
0
-0.5
591003.394812018
4682834.43610949
