0.5
0
0
-0.5
611542.153349752
4687763.39391168
