0.5
0
0
-0.5
594407.291058852
4685193.83277786
