0.5
0
0
-0.5
601344.03888799
4680665.07472868
