0.5
0
0
-0.5
611691.561972762
4678510.71528029
