0.5
0
0
-0.5
615167.88962116
4676253.88126825
