0.5
0
0
-0.5
632186.686899032
4685813.2562126
