0.5
0
0
-0.5
628838.090029294
4681122.17020857
