1
0
0
-1
641156.863090717
4748571.6665753
