1
0
0
-1
661247.966633989
4762911.86059568
