1
0
0
-1
566449.688268377
4728897.56602764
