1
0
0
-1
634533.250111279
4739178.47570504
