1
0
0
-1
627803.182793848
4734418.67743825
