1
0
0
-1
539198.952274751
4719423.48485133
