1
0
0
-1
546035.019921357
4719468.52653356
