1
0
0
-1
580270.494102654
4715169.31036192
