1
0
0
-1
566636.226377117
4710391.22260794
