1
0
0
-1
655305.831763535
4725738.36468197
