1
0
0
-1
573634.392777037
4696584.56145043
