1
0
0
-1
628504.105597204
4697405.66340469
