1
0
0
-1
587471.729940382
4687497.0182525
