1
0
0
-1
601345.21484553
4678436.18438874
