1
0
0
-1
615254.886587111
4669402.08254722
