1
0
0
-1
601551.813758253
4664557.39405525
