1
0
0
-1
608588.69585506
4655410.9716331
