1
0
0
-1
615565.852786913
4650897.44746883
