1
0
0
-1
619891.409662211
4794443.04826512
