1
0
0
-1
626831.664425701
4785314.85692177
